BEGIN:VCALENDAR
VERSION:2.0
PRODID:-//Siddhayatan Tirth &amp; Spiritual Retreat - ECPv6.15.20//NONSGML v1.0//EN
CALSCALE:GREGORIAN
METHOD:PUBLISH
X-WR-CALNAME:Siddhayatan Tirth &amp; Spiritual Retreat
X-ORIGINAL-URL:https://siddhayatan.org
X-WR-CALDESC:Events for Siddhayatan Tirth &amp; Spiritual Retreat
REFRESH-INTERVAL;VALUE=DURATION:PT1H
X-Robots-Tag:noindex
X-PUBLISHED-TTL:PT1H
BEGIN:VTIMEZONE
TZID:America/Chicago
BEGIN:DAYLIGHT
TZOFFSETFROM:-0600
TZOFFSETTO:-0500
TZNAME:CDT
DTSTART:20250309T080000
END:DAYLIGHT
BEGIN:STANDARD
TZOFFSETFROM:-0500
TZOFFSETTO:-0600
TZNAME:CST
DTSTART:20251102T070000
END:STANDARD
BEGIN:DAYLIGHT
TZOFFSETFROM:-0600
TZOFFSETTO:-0500
TZNAME:CDT
DTSTART:20260308T080000
END:DAYLIGHT
BEGIN:STANDARD
TZOFFSETFROM:-0500
TZOFFSETTO:-0600
TZNAME:CST
DTSTART:20261101T070000
END:STANDARD
BEGIN:DAYLIGHT
TZOFFSETFROM:-0600
TZOFFSETTO:-0500
TZNAME:CDT
DTSTART:20270314T080000
END:DAYLIGHT
BEGIN:STANDARD
TZOFFSETFROM:-0500
TZOFFSETTO:-0600
TZNAME:CST
DTSTART:20271107T070000
END:STANDARD
BEGIN:DAYLIGHT
TZOFFSETFROM:-0600
TZOFFSETTO:-0500
TZNAME:CDT
DTSTART:20280312T080000
END:DAYLIGHT
BEGIN:STANDARD
TZOFFSETFROM:-0500
TZOFFSETTO:-0600
TZNAME:CST
DTSTART:20281105T070000
END:STANDARD
END:VTIMEZONE
BEGIN:VEVENT
DTSTART;TZID=America/Chicago:20261225T120000
DTEND;TZID=America/Chicago:20261227T150000
DTSTAMP:20260424T123317
CREATED:20260423T170303Z
LAST-MODIFIED:20260423T170303Z
UID:37143-1798200000-1798383600@siddhayatan.org
SUMMARY:Power of Intention
DESCRIPTION:
URL:https://siddhayatan.org/event/power-of-intention-8/
LOCATION:Siddhayatan Tirth\, 9985 E Hwy 56\, Windom\, TX\, 75492\, United States
ATTACH;FMTTYPE=image/png:https://siddhayatan.org/wp-content/uploads/2024/12/Screenshot-2025-01-29-at-8.14.12-PM.png
END:VEVENT
BEGIN:VEVENT
DTSTART;TZID=America/Chicago:20261230T150000
DTEND;TZID=America/Chicago:20270101T120000
DTSTAMP:20260424T123317
CREATED:20250121T203741Z
LAST-MODIFIED:20260423T171532Z
UID:34627-1798642800-1798804800@siddhayatan.org
SUMMARY:New Year's Retreat
DESCRIPTION:
URL:https://siddhayatan.org/event/new-years-retreat/
LOCATION:Siddhayatan Tirth\, 9985 E Hwy 56\, Windom\, TX\, 75492\, United States
END:VEVENT
BEGIN:VEVENT
DTSTART;TZID=America/Chicago:20270108T150000
DTEND;TZID=America/Chicago:20270110T120000
DTSTAMP:20260424T123317
CREATED:20260423T171740Z
LAST-MODIFIED:20260423T171740Z
UID:37166-1799420400-1799582400@siddhayatan.org
SUMMARY:Discover Your Purpose
DESCRIPTION:
URL:https://siddhayatan.org/event/discover-your-purpose-16/
LOCATION:Siddhayatan Tirth\, 9985 E Hwy 56\, Windom\, TX\, 75492\, United States
ATTACH;FMTTYPE=image/png:https://siddhayatan.org/wp-content/uploads/2024/12/Screenshot-2025-01-29-at-8.14.04-PM.png
END:VEVENT
END:VCALENDAR